BEGIN:VCALENDAR
VERSION:2.0
CREATED:20260420T203357Z
PRODID:-//Net Power Inc./Equisolve Calendar v1.0//EN
METHOD:PUBLISH
BEGIN:VEVENT
UID:c10444579c0085e222e3256bf8c798e6
DTSTAMP:20260421T110739Z
DTSTART:20260512T123000Z
DTEND:20260512T133000Z
SUMMARY:Q1 2026 Earnings Conference Call
DESCRIPTION:Q1 2026 Earnings Conference Call\nDate: May 12\, 2026 8:30 am EDT
END:VEVENT
END:VCALENDAR
